BEGIN:VCALENDAR
VERSION:2.0
PRODID:-//ChamberMaster//Event Calendar 2.0//EN
METHOD:PUBLISH
X-PUBLISHED-TTL:P3D
REFRESH-INTERVAL:P3D
CALSCALE:GREGORIAN
BEGIN:VEVENT
DTSTART:20260423T204500Z
DTEND:20260423T204500Z
X-MICROSOFT-CDO-ALLDAYEVENT:FALSE
SUMMARY:Thursday Movie at the Yankton Community Library
DESCRIPTION:Our April movie will be The SpongeBob Movie: Search for SquarePants with a runtime of 1 hour 28 minutes. The show is rated PG. Join us on Thursday\, April 23\, at 3:45 pm. Light snacks will be provided.
X-ALT-DESC;FMTTYPE=text/html:<span style="color:#000000\;"><span style="font-family: Aptos\, Aptos_EmbeddedFont\, Aptos_MSFontService\, Calibri\, Helvetica\, sans-serif\; font-size: 16px\;">Our April movie will be&nbsp\;</span><i style="color: rgb(118\, 62\, 155)\; font-family: Aptos\, Aptos_EmbeddedFont\, Aptos_MSFontService\, Calibri\, Helvetica\, sans-serif\; font-size: 16px\;">The SpongeBob Movie: Search for SquarePants&nbsp\;</i><span style="font-family: Aptos\, Aptos_EmbeddedFont\, Aptos_MSFontService\, Calibri\, Helvetica\, sans-serif\; font-size: 16px\;">with a runtime of 1 hour 28 minutes. The show is rated PG. Join us on Thursday\, April 23\, at 3:45 pm. Light snacks will be provided.</span></span>
LOCATION:Yankton Community Library
UID:e.1120.59602
SEQUENCE:3
DTSTAMP:20260423T144853Z
URL:https://chambermaster.yanktonsd.com/events/details/thursday-movie-at-the-yankton-community-library-59602
END:VEVENT

END:VCALENDAR
