BEGIN:VCALENDAR
VERSION:2.0
PRODID:-//ChamberMaster//Event Calendar 2.0//EN
METHOD:PUBLISH
X-PUBLISHED-TTL:P3D
REFRESH-INTERVAL:P3D
CALSCALE:GREGORIAN
BEGIN:VEVENT
DTSTART:20260423T163000Z
DTEND:20260423T183000Z
X-MICROSOFT-CDO-ALLDAYEVENT:FALSE
SUMMARY:Kore Cares 10th Anniversary Celebration
DESCRIPTION:Join us as we celebrate 10 years of excellent care\, growth\, and the incredible partners that made it all possible. \n\n\n\nEnjoy great food\, exciting raffles\, and opportunities to connect with our team! \n\n\n\nPlease RSVP by April 16th to reserve your complimentary lunch and celebrate with us. Please call 605.791.7970 or email yankton@korecares.com
X-ALT-DESC;FMTTYPE=text/html:Join us as we celebrate 10 years of excellent care\, growth\, and the incredible partners that made it all possible.&nbsp\;<br />\n<br />\nEnjoy great food\, exciting raffles\, and opportunities to connect with our team!&nbsp\;<br />\n<br />\nPlease RSVP by April 16th to reserve your complimentary lunch and celebrate with us. Please call 605.791.7970 or email <a href="mailto:yankton@korecares.com?subject=RSVP%20to%2010th%20Anniversary%20Celebration">yankton@korecares.com</a>
LOCATION:
UID:e.1120.59630
SEQUENCE:3
DTSTAMP:20260422T144431Z
URL:https://chambermaster.yanktonsd.com/events/details/kore-cares-10th-anniversary-celebration-59630
END:VEVENT

END:VCALENDAR
