BEGIN:VCALENDAR
VERSION:2.0
PRODID:-//ChamberMaster//Event Calendar 2.0//EN
METHOD:PUBLISH
X-PUBLISHED-TTL:P3D
REFRESH-INTERVAL:P3D
CALSCALE:GREGORIAN
BEGIN:VEVENT
DTSTART:20260421T190000Z
DTEND:20260421T210000Z
X-MICROSOFT-CDO-ALLDAYEVENT:FALSE
SUMMARY:First Interstate Bank Open House & Celebration for Philanthropic Giving
DESCRIPTION:Join us for an open house on April 21 from 2:00 4:00 p.m. to celebrate reaching our $100 million milestone in philanthropic giving. For questions\, please contact Lacey Jensen at lacey.jensen@fib.com or by calling 605.260.8674
X-ALT-DESC;FMTTYPE=text/html:<!--StartFragment--><span data-olk-copy-source="MessageBody" style="font-size: 12pt\; font-family: Aptos\, sans-serif\; margin: 0px\;">Join us for an open house on April 21 from 2:00&ndash\;4:00 p.m. to celebrate reaching our $100 million milestone in philanthropic giving. For questions\, please contact Lacey Jensen at lacey.jensen@fib.com or by calling 605.260.8674</span><br />\n<!--EndFragment-->
LOCATION:First Interstate Bank
UID:e.1120.59588
SEQUENCE:3
DTSTAMP:20260420T143208Z
URL:https://chambermaster.yanktonsd.com/events/details/first-interstate-bank-open-house-celebration-for-philanthropic-giving-59588
END:VEVENT

END:VCALENDAR
