BEGIN:VCALENDAR
VERSION:2.0
PRODID:-//ChamberMaster//Event Calendar 2.0//EN
METHOD:PUBLISH
X-PUBLISHED-TTL:P3D
REFRESH-INTERVAL:P3D
CALSCALE:GREGORIAN
BEGIN:VEVENT
DTSTART:20260419T180000Z
DTEND:20260419T200000Z
X-MICROSOFT-CDO-ALLDAYEVENT:FALSE
SUMMARY:Enough Abuse: Community Training
DESCRIPTION:The Enough Abuse series empowers parents\, youth\, professionals and other concerned adults to prevent people from victimizing children and youth today and to prevent children from developing abusive behaviors in the future.\n\nFacilitated by Cassie Nagel\, Executive Director of Waypost\n\nEnough Abuse:\n\nStrategies for Your Family and Community\n\nPart I : Understanding the Child Sexual Abuse as a Public Health Problem\n\nPart II : Conditions that Support Child Sexual Abuse\n\nPart III : Preventing Child Sexual Abuse\n\n \n\nNo Registration Required!
X-ALT-DESC;FMTTYPE=text/html:<div class="xdj266r x14z9mp xat24cr x1lziwak x1vvkbs" style="margin-inline: 0px\; overflow-wrap: break-word\; margin-bottom: 0px\; margin-top: 0px\; font-family: system-ui\, -apple-system\, &quot\;system-ui&quot\;\, &quot\;.SFNSText-Regular&quot\;\, sans-serif\; color: rgb(8\, 8\, 9)\; font-size: 15px\;">The Enough Abuse series empowers parents\, youth\, professionals and other concerned adults to prevent people from victimizing children and youth today and to prevent children from developing abusive behaviors in the future.</div>\n\n<div class="x14z9mp xat24cr x1lziwak x1vvkbs xtlvy1s" style="margin-inline: 0px\; overflow-wrap: break-word\; margin-bottom: 0px\; margin-top: 0.5em\; font-family: system-ui\, -apple-system\, &quot\;system-ui&quot\;\, &quot\;.SFNSText-Regular&quot\;\, sans-serif\; color: rgb(8\, 8\, 9)\; font-size: 15px\;">Facilitated by Cassie Nagel\, Executive Director of Waypost</div>\n\n<div class="x14z9mp xat24cr x1lziwak x1vvkbs xtlvy1s" style="margin-inline: 0px\; overflow-wrap: break-word\; margin-bottom: 0px\; margin-top: 0.5em\; font-family: system-ui\, -apple-system\, &quot\;system-ui&quot\;\, &quot\;.SFNSText-Regular&quot\;\, sans-serif\; color: rgb(8\, 8\, 9)\; font-size: 15px\;">Enough Abuse:<br class="html-br" />\nStrategies for Your Family and Community</div>\n\n<div class="x14z9mp xat24cr x1lziwak x1vvkbs xtlvy1s" style="margin-inline: 0px\; overflow-wrap: break-word\; margin-bottom: 0px\; margin-top: 0.5em\; font-family: system-ui\, -apple-system\, &quot\;system-ui&quot\;\, &quot\;.SFNSText-Regular&quot\;\, sans-serif\; color: rgb(8\, 8\, 9)\; font-size: 15px\;">Part I : Understanding the Child Sexual Abuse as a Public Health Problem<br class="html-br" />\nPart II : Conditions that Support Child Sexual Abuse<br class="html-br" />\nPart III : Preventing Child Sexual Abuse</div>\n\n<div class="x14z9mp xat24cr x1lziwak x1vvkbs xtlvy1s" style="margin-inline: 0px\; overflow-wrap: break-word\; margin-bottom: 0px\; margin-top: 0.5em\; font-family: system-ui\, -apple-system\, &quot\;system-ui&quot\;\, &quot\;.SFNSText-Regular&quot\;\, sans-serif\; color: rgb(8\, 8\, 9)\; font-size: 15px\;">&nbsp\;</div>\n\n<div class="x14z9mp xat24cr x1lziwak x1vvkbs xtlvy1s" style="margin-inline: 0px\; overflow-wrap: break-word\; margin-bottom: 0px\; margin-top: 0.5em\; font-family: system-ui\, -apple-system\, &quot\;system-ui&quot\;\, &quot\;.SFNSText-Regular&quot\;\, sans-serif\; color: rgb(8\, 8\, 9)\; font-size: 15px\;">No Registration Required!</div>\n
LOCATION:Celebrate Community Church
UID:e.1120.59611
SEQUENCE:3
DTSTAMP:20260419T131441Z
URL:https://chambermaster.yanktonsd.com/events/details/enough-abuse-community-training-59611
END:VEVENT

END:VCALENDAR
