BEGIN:VCALENDAR
VERSION:2.0
PRODID:-//ChamberMaster//Event Calendar 2.0//EN
METHOD:PUBLISH
X-PUBLISHED-TTL:P3D
REFRESH-INTERVAL:P3D
CALSCALE:GREGORIAN
BEGIN:VEVENT
DTSTART:20260421T173000Z
DTEND:20260421T183000Z
X-MICROSOFT-CDO-ALLDAYEVENT:FALSE
SUMMARY:Culture Cove Ribbon Cutting
DESCRIPTION:A retreat space crafted to inspire growth and collaboration. Culture Cove offers a versatile and inspiring environment designed to foster teamwork\, creativity\, and professional development. Their space is equipped to accommodate many training formats and group sizes\, from intimate workshops to large-scale conferences.
X-ALT-DESC;FMTTYPE=text/html:<div class="xdj266r x14z9mp xat24cr x1lziwak x1vvkbs" style="margin-inline: 0px\; overflow-wrap: break-word\; margin-bottom: 0px\; margin-top: 0px\; font-family: system-ui\, -apple-system\, &quot\;system-ui&quot\;\, &quot\;.SFNSText-Regular&quot\;\, sans-serif\; color: rgb(8\, 8\, 9)\; font-size: 15px\;"><span data-teams="true">A retreat space crafted to inspire growth and collaboration. Culture Cove offers a versatile and inspiring environment designed to foster teamwork\, creativity\, and professional development. Their space is equipped to accommodate many training formats and group sizes\, from intimate workshops to large-scale conferences.</span></div>\n\n<div class="x14z9mp xat24cr x1lziwak x1vvkbs xtlvy1s" style="margin-inline: 0px\; overflow-wrap: break-word\; margin-bottom: 0px\; margin-top: 0.5em\; font-family: system-ui\, -apple-system\, &quot\;system-ui&quot\;\, &quot\;.SFNSText-Regular&quot\;\, sans-serif\; color: rgb(8\, 8\, 9)\; font-size: 15px\;">&nbsp\;</div>\n
LOCATION:Culture Cove
UID:e.1120.59640
SEQUENCE:3
DTSTAMP:20260420T143449Z
URL:https://chambermaster.yanktonsd.com/events/details/culture-cove-ribbon-cutting-59640
END:VEVENT

END:VCALENDAR
