BEGIN:VCALENDAR
VERSION:2.0
PRODID:-//ChamberMaster//Event Calendar 2.0//EN
METHOD:PUBLISH
X-PUBLISHED-TTL:P3D
REFRESH-INTERVAL:P3D
CALSCALE:GREGORIAN
BEGIN:VEVENT
DTSTART;VALUE=DATE:20260421
DTEND;VALUE=DATE:20260422
TRANSP:TRANSPARENT
X-MICROSOFT-CDO-ALLDAYEVENT:TRUE
SUMMARY:Culture Cove - Elevate Your Impact: Power of Culture & Success Mindset Seminar
DESCRIPTION:A Premier Leadership & Development Event\n\n\n\nJoin Think 3D\, Vermillion Area Chamber & Development Company\, and Yankton Thrive for an exclusive\, high-impact training session designed for business leaders\, owners\, and anyone committed to personal and professional excellence.\n\n\n\nThis collaborative event brings together the region's top development experts and community advocates to help you unlock the potential of your team and yourself.\n\n\n\nLunch will be provided.\n\n\n\nYankton Thrive is limited to 24 participants. \n\n\n\nMore details here: https://www.yanktonsd.com/assets/pdf/Culture+Cove
X-ALT-DESC;FMTTYPE=text/html:<strong><span style="font-size:22px\;">A Premier Leadership &amp\; Development Event</span></strong><br />\n<br />\n<span style="font-size:18px\;">Join Think 3D\, Vermillion Area Chamber &amp\; Development Company\, and Yankton Thrive for an exclusive\, high-impact training session designed for business leaders\, owners\, and anyone committed to personal and professional excellence.<br />\n<br />\nThis collaborative event brings together the region&#39\;s top development experts and community advocates to help you unlock the potential of your team and yourself.<br />\n<br />\nLunch will be provided.<br />\n<br />\nYankton Thrive is limited to 24 participants.&nbsp\;<br />\n<br />\nMore details here:&nbsp\;</span><span data-teams="true"><a aria-label="Link https://www.yanktonsd.com/assets/pdf/Culture+Cove" class="fui-Link ___1q1shib f2hkw1w f3rmtva f1ewtqcl fyind8e f1k6fduh f1w7gpdv fk6fouc fjoy568 figsok6 f1s184ao f1mk8lai fnbmjn9 f1o700av f13mvf36 f1cmlufx f9n3di6 f1ids18y f1tx3yz7 f1deo86v f1eh06m1 f1iescvh fhgqx19 f1olyrje f1p93eir f1nev41a f1h8hb77 f1lqvz6u f10aw75t fsle3fq f17ae5zn" href="https://www.yanktonsd.com/assets/pdf/Culture+Cove" id="menur2ebf" rel="noreferrer noopener" target="_blank" title="https://www.yanktonsd.com/assets/pdf/culture+cove">https://www.yanktonsd.com/assets/pdf/Culture+Cove</a></span>
LOCATION:Culture Cove 45345 311th St. Meckling\, SD 57069
UID:e.1120.58900
SEQUENCE:3
DTSTAMP:20260419T130812Z
URL:https://chambermaster.yanktonsd.com/events/details/culture-cove-elevate-your-impact-power-of-culture-success-mindset-seminar-58900
END:VEVENT

END:VCALENDAR
