BEGIN:VCALENDAR
VERSION:2.0
PRODID:-//ChamberMaster//Event Calendar 2.0//EN
METHOD:PUBLISH
X-PUBLISHED-TTL:P3D
REFRESH-INTERVAL:P3D
CALSCALE:GREGORIAN
BEGIN:VEVENT
DTSTART:20260423T190000Z
DTEND:20260423T200000Z
X-MICROSOFT-CDO-ALLDAYEVENT:FALSE
SUMMARY:Cornerstones Career Learning Center 40th Anniversary 'Confetti Pop'
DESCRIPTION:Cornerstones Career Learning Center is a South Dakota nonprofit that provides adult education\, job training\, and workforce support services. Through programs like GED preparation and skills training\, it helps individuals build careers while supporting local employers and community growth.
X-ALT-DESC;FMTTYPE=text/html:<p><span data-teams="true">Cornerstones Career Learning Center is a South Dakota nonprofit that provides adult education\, job training\, and workforce support services. Through programs like GED preparation and skills training\, it helps individuals build careers while supporting local employers and community growth.</span></p>\n
LOCATION:Cornerstones Career Learning Center Yankton
UID:e.1120.59631
SEQUENCE:3
DTSTAMP:20260423T144719Z
URL:https://chambermaster.yanktonsd.com/events/details/cornerstones-career-learning-center-40th-anniversary-confetti-pop-59631
END:VEVENT

END:VCALENDAR
